BEGIN:VCALENDAR
PRODID:-//github.com/rianjs/ical.net//NONSGML ical.net 4.0//EN
VERSION:2.0
BEGIN:VTIMEZONE
TZID:Eastern Standard Time
X-LIC-LOCATION:America/New_York
BEGIN:STANDARD
DTSTART:20241103T020000
RRULE:FREQ=YEARLY;BYDAY=1SU;BYMONTH=11
TZNAME:EST
TZOFFSETFROM:-0400
TZOFFSETTO:-0500
END:STANDARD
BEGIN:DAYLIGHT
DTSTART:20250309T020000
RRULE:FREQ=YEARLY;BYDAY=2SU;BYMONTH=3
TZNAME:EDT
TZOFFSETFROM:-0500
TZOFFSETTO:-0400
END:DAYLIGHT
END:VTIMEZONE
BEGIN:VEVENT
DTEND;TZID=Eastern Standard Time:20260527T140000
DTSTAMP:20260421T032756Z
DTSTART;TZID=Eastern Standard Time:20260527T130000
LOCATION:Join Us Virtually on Zoom
ORGANIZER;CN=;SENT-BY="mailto:":
SEQUENCE:0
SUMMARY:MFA: Webinar: Essential Liability Guide for Fitness Professionals:
  Insurance\, Waivers & Risk Management
UID:e7ac8e83-053f-47c8-970c-9e2e2b9dc056
END:VEVENT
END:VCALENDAR
